BEGIN:VCALENDAR
VERSION:2.0
PRODID:-//Alabama Commission on Higher Education - ECPv6.6.0//NONSGML v1.0//EN
CALSCALE:GREGORIAN
METHOD:PUBLISH
X-WR-CALNAME:Alabama Commission on Higher Education
X-ORIGINAL-URL:https://www.ache.edu
X-WR-CALDESC:Events for Alabama Commission on Higher Education
REFRESH-INTERVAL;VALUE=DURATION:PT1H
X-Robots-Tag:noindex
X-PUBLISHED-TTL:PT1H
BEGIN:VTIMEZONE
TZID:America/Chicago
BEGIN:DAYLIGHT
TZOFFSETFROM:-0600
TZOFFSETTO:-0500
TZNAME:CDT
DTSTART:20260308T080000
END:DAYLIGHT
BEGIN:STANDARD
TZOFFSETFROM:-0500
TZOFFSETTO:-0600
TZNAME:CST
DTSTART:20261101T070000
END:STANDARD
END:VTIMEZONE
BEGIN:VEVENT
DTSTART;TZID=America/Chicago:20260612T100000
DTEND;TZID=America/Chicago:20260612T120000
DTSTAMP:20260423T143054
CREATED:20260114T203926Z
LAST-MODIFIED:20260114T203926Z
UID:31720-1781258400-1781265600@www.ache.edu
SUMMARY:Alabama Commission on Higher Education June 12\, 2026 Commission Meeting
DESCRIPTION:Alabama Commission on Higher Education June 12\, 2026 Commission Meeting \n @ 10:00 am – 12:00 pm \n  \nRSA Union Building \n100 North Union Street\, 7th floor\, Room 779 \nMontgomery\, Alabama 36104 \nFor additional information about the meeting\, go to ACHE’s Agenda page.
URL:https://www.ache.edu/index.php/event/alabama-commission-on-higher-education-june-12-2026-commission-meeting/
END:VEVENT
BEGIN:VEVENT
DTSTART;TZID=America/Chicago:20260911T100000
DTEND;TZID=America/Chicago:20260911T120000
DTSTAMP:20260423T143054
CREATED:20260114T204057Z
LAST-MODIFIED:20260114T204057Z
UID:31722-1789120800-1789128000@www.ache.edu
SUMMARY:Alabama Commission on Higher Education September 11\, 2026 Commission Meeting
DESCRIPTION:Alabama Commission on Higher Education September 11\, 2026 Commission Meeting \n @ 10:00 am – 12:00 pm \n  \nRSA Union Building \n100 North Union Street\, 7th floor\, Room 779 \nMontgomery\, Alabama 36104 \nFor additional information about the meeting\, go to ACHE’s Agenda page.
URL:https://www.ache.edu/index.php/event/alabama-commission-on-higher-education-september-11-2026-commission-meeting/
END:VEVENT
BEGIN:VEVENT
DTSTART;TZID=America/Chicago:20261211T100000
DTEND;TZID=America/Chicago:20261211T120000
DTSTAMP:20260423T143054
CREATED:20260114T204230Z
LAST-MODIFIED:20260114T204245Z
UID:31724-1796983200-1796990400@www.ache.edu
SUMMARY:Alabama Commission on Higher Education December 11\, 2026 Commission Meeting
DESCRIPTION:Alabama Commission on Higher Education December 11\, 2026 Commission Meeting \n @ 10:00 am – 12:00 pm \n  \nRSA Union Building \n100 North Union Street\, 7th floor\, Room 779 \nMontgomery\, Alabama 36104 \nFor additional information about the meeting\, go to ACHE’s Agenda page.
URL:https://www.ache.edu/index.php/event/alabama-commission-on-higher-education-december-11-2026-commission-meeting/
END:VEVENT
END:VCALENDAR